Workbook

Sheet Auto diagnostic Cycle Achat
A1: Direction générale, Direction, Service, sous-direction ou bureau : | C1: [A remplir] | E1: Usage DPCoF uniquement | F1: Usage DPCoF uniquement | G1: Usage DPCoF uniquement
A2: Éléments du référentiel | B2: Responsable de la mise en œuvre de l'élément du référentiel | C2: Comportements et pratiques prohibées | D2: Niveau d'intégration des éléments du référentiel déclaré | E2: Intégration optimale théorique des éléments du référentiel | F2: Pondération des éléments du référentiel (DPCoF) | G2: Score d'intégration maximale théorique | H2: Score d'intégation des éléments du référentiel déclaratif | I2: Écart au référentiel (0=Totalement conforme ; 1=Absence totale de conformité) | J2: Niveau de risque de qualification d'atteinte à la probité
A3: ① Sourcing | B3: ① Sourcing | C3: ① Sourcing | D3: =SUM(D4:D14) -> 0 | E3: =SUM(E4:E14) -> 55 | F3: =SUM(F4:F14) -> 36 | G3: =E3*F3 -> 1980 | H3: =D3*F3 -> 0 | I3: =((G3-H3)/G3) -> 1 | J3: =IF(_xlfn.CONCAT(D4:D14)="","Non évalué",(IF(I3=0,"Conforme",IF(I3>=0.9,"Critique",IF(I3>=0.6,"Majeur",IF(I3>=0.3,"Mineur","Négligeable")))))) -> Non évalué
A4: I.1.1 - Communiquer de manière transparente et identique sur les besoins du pouvoir adjudicateur (réunions sur les intentions d’achats, publication de la programmation pluriannuelle des marchés). | C4: • Favoritisme – transmission d’informations privilégiées sur les attentes de l’acheteur, la consistance d’une opération ou son coût (risque d’asymétrie de l’information entre les candidats). • Corruption passive – sollicitation, acceptation d’un cadeau ou invitation (voyages, invitations à des salons) en contrepartie de l’exercice d’une influence sur les travaux préparatoires. • Prise illégale d'intérêts – intervention d’un acheteur qui a des liens d’intérêts avec l’un des opérateurs économiques sourcés et qui exerce une influence sur les travaux préparatoires. | E4: 5 | F4: 3 | G4: =E4*F4 -> 15 | H4: =D4*F4 -> 0 | I4: =((G4-H4)/G4) -> 1 | J4: =IF(D4="","Non évalué",(IF(I4=0,"Conforme",IF(I4>=0.9,"Critique",IF(I4>=0.6,"Majeur",IF(I4>=0.3,"Mineur","Négligeable")))))) -> Non évalué
A5: I.1.2 - Anticiper la programmation des marchés et effectuer le sourcing suffisamment en amont. | E5: 5 | F5: 2 | G5: =E5*F5 -> 10 | H5: =D5*F5 -> 0 | I5: =((G5-H5)/G5) -> 1 | J5: =IF(D5="","Non évalué",(IF(I5=0,"Conforme",IF(I5>=0.9,"Critique",IF(I5>=0.6,"Majeur",IF(I5>=0.3,"Mineur","Négligeable")))))) -> Non évalué
A6: I.1.3 - Sélectionner un panel d'entreprises à sourcer, en respectant les principes fondamentaux de la commande publique, en variant si possible les types d’opérateurs économiques sollicités (taille de l’entreprise ; entreprises leader, émergentes, innovantes ; …) et en contactant les organisations professionnelles ou économiques représentatives du secteur d’activités, les structures consulaires (ex : chambres de commerce et d’industrie, chambres d’artisanat, …). | E6: 5 | F6: 3 | G6: =E6*F6 -> 15 | H6: =D6*F6 -> 0 | I6: =((G6-H6)/G6) -> 1 | J6: =IF(D6="","Non évalué",(IF(I6=0,"Conforme",IF(I6>=0.9,"Critique",IF(I6>=0.6,"Majeur",IF(I6>=0.3,"Mineur","Négligeable")))))) -> Non évalué
A7: I.1.4 - Formaliser l’invitation au sourcing (invitations transmises directement aux opérateurs économiques, tirage au sort de l’ordre de passage). | E7: 5 | F7: 1 | G7: =E7*F7 -> 5 | H7: =D7*F7 -> 0 | I7: =((G7-H7)/G7) -> 1 | J7: =IF(D7="","Non évalué",(IF(I7=0,"Conforme",IF(I7>=0.9,"Critique",IF(I7>=0.6,"Majeur",IF(I7>=0.3,"Mineur","Négligeable")))))) -> Non évalué
A8: I.1.5 - Assurer la collégialité du sourcing : - Réunions internes avant l’écriture du cahier des charges avec, le cas échéant, des acteurs neutres vis-à-vis du besoin à satisfaire. - Création d’un binôme acheteur/prescripteur (notamment si la participation d’un agent est susceptible de créer une situation à risque). | E8: 5 | F8: 4 | G8: =E8*F8 -> 20 | H8: =D8*F8 -> 0 | I8: =((G8-H8)/G8) -> 1 | J8: =IF(D8="","Non évalué",(IF(I8=0,"Conforme",IF(I8>=0.9,"Critique",IF(I8>=0.6,"Majeur",IF(I8>=0.3,"Mineur","Négligeable")))))) -> Non évalué
A9: I.1.6 - Définir la participation et le rôle de chacun dans le sourcing (encadrement de la participation d’un assistant à maîtrise d’ouvrage, …). | E9: 5 | F9: 2 | G9: =E9*F9 -> 10 | H9: =D9*F9 -> 0 | I9: =((G9-H9)/G9) -> 1 | J9: =IF(D9="","Non évalué",(IF(I9=0,"Conforme",IF(I9>=0.9,"Critique",IF(I9>=0.6,"Majeur",IF(I9>=0.3,"Mineur","Négligeable")))))) -> Non évalué
A10: I.1.7 - Définir la teneur des entretiens (informations transmises aux opérateurs économiques, durée, élaboration d’une grille d’entretien, d'un questionnaire, …). | E10: 5 | F10: 4 | G10: =E10*F10 -> 20 | H10: =D10*F10 -> 0 | I10: =((G10-H10)/G10) -> 1 | J10: =IF(D10="","Non évalué",(IF(I10=0,"Conforme",IF(I10>=0.9,"Critique",IF(I10>=0.6,"Majeur",IF(I10>=0.3,"Mineur","Négligeable")))))) -> Non évalué
A11: I.1.8 - Assurer la traçabilité et la transparence des échanges (compte rendu écrit ou grille d’entretien fournisseurs) et contrôler la diffusion des informations obtenues (diffusion en interne aux personnes associées au projet). | E11: 5 | F11: 4 | G11: =E11*F11 -> 20 | H11: =D11*F11 -> 0 | I11: =((G11-H11)/G11) -> 1 | J11: =IF(D11="","Non évalué",(IF(I11=0,"Conforme",IF(I11>=0.9,"Critique",IF(I11>=0.6,"Majeur",IF(I11>=0.3,"Mineur","Négligeable")))))) -> Non évalué
A12: I.1.9 - Assurer la transparence : - publication de la programmation pluriannuelle des achats, des appels à compétence, … - traçabilité en interne des rencontres des acheteurs dans le cadre du sourcing (compte rendu, …) | E12: 5 | F12: 4 | G12: =E12*F12 -> 20 | H12: =D12*F12 -> 0 | I12: =((G12-H12)/G12) -> 1 | J12: =IF(D12="","Non évalué",(IF(I12=0,"Conforme",IF(I12>=0.9,"Critique",IF(I12>=0.6,"Majeur",IF(I12>=0.3,"Mineur","Négligeable")))))) -> Non évalué
A13: I.1.10 - Encadrer la participation à des salons, à des visites de sites de production (invitation en lien avec l’objet de l’achat), invitations (repas d’affaire, loisirs sur le temps de travail), gestion des cadeaux, repas d’affaire, … | E13: 5 | F13: 5 | G13: =E13*F13 -> 25 | H13: =D13*F13 -> 0 | I13: =((G13-H13)/G13) -> 1 | J13: =IF(D13="","Non évalué",(IF(I13=0,"Conforme",IF(I13>=0.9,"Critique",IF(I13>=0.6,"Majeur",IF(I13>=0.3,"Mineur","Négligeable")))))) -> Non évalué
A14: I.1.11 - Encadrer les tests de produits à titre "gratuit" (informatique, matériels, …). | E14: 5 | F14: 4 | G14: =E14*F14 -> 20 | H14: =D14*F14 -> 0 | I14: =((G14-H14)/G14) -> 1 | J14: =IF(D14="","Non évalué",(IF(I14=0,"Conforme",IF(I14>=0.9,"Critique",IF(I14>=0.6,"Majeur",IF(I14>=0.3,"Mineur","Négligeable")))))) -> Non évalué
A15: I.1.12 - Réaliser une évaluation des risques d'atteinte à la probité dans le cadre du marché à passer (taille des opérateurs, enjeu financier, enjeu réputationnel, enjeu opérationnel, sensibilité du secteur, degré de concurrence dans le secteur, …). | E15: 5 | F15: 3 | G15: =E15*F15 -> 15 | H15: =D15*F15 -> 0 | I15: =((G15-H15)/G15) -> 1 | J15: =IF(D15="","Non évalué",(IF(I15=0,"Conforme",IF(I15>=0.9,"Critique",IF(I15>=0.6,"Majeur",IF(I15>=0.3,"Mineur","Négligeable")))))) -> Non évalué
A16: ② Détermination du besoin | B16: ② Détermination du besoin | C16: ② Détermination du besoin | D16: =SUM(D17:D22) -> 0 | E16: =IF(SUM(E17:E22)="","",SUM(E17:E22)) -> 30 | F16: =SUM(F17:F22) -> 20 | G16: =E16*F16 -> 600 | H16: =D16*F16 -> 0 | I16: =((G16-H16)/G16) -> 1 | J16: =IF(_xlfn.CONCAT(D17:D22)="","Non évalué",(IF(I16=0,"Conforme",IF(I16>=0.9,"Critique",IF(I16>=0.6,"Majeur",IF(I16>=0.3,"Mineur","Négligeable")))))) -> Non évalué
A17: I.2.1 - Exploiter les résultats du sourcing en assurant la collégialité des travaux et la diffusion des éléments nécessaires aux personnes associées au projet pour rapprocher l’expression du besoin du marché fournisseur (compte rendu, grille d’entretien fournisseurs, …). | C17: • Favoritisme – (i) participation directe d’un opérateur économique à la rédaction du marché public lui permettant de recueillir des informations privilégiées pour son obtention | (ii) spécifications techniques sur mesure ne permettant la sélection que d’un seul opérateur économique | (iii) sous-estimation volontaire de la valeur du besoin permettant d’autoriser le recours à la négociation et ainsi privilégier une entreprise qui récupère le manque par avenants ultérieurs. • Corruption passive – sollicitation, acceptation d’un cadeau ou invitation (voyages …) dans le but d’exercer une influence sur la détermination du besoin. • Détournement de fonds publics – surévaluation du besoin dans le cahier des charges génère une manne financière née de l’écart entre les réalisations réelles et le montant du marché qui est versée à l’agent par l’attributaire, ou d’une appréciation délibérément faussée des coûts estimés ou de la marge d’erreur. • Prise illégale d'intérêts – intervention d’un acheteur qui a des liens d’intérêts avec l’un des opérateurs économiques sourcés et qui exerce une influence sur les travaux préparatoires du marché. | E17: 5 | F17: 4 | G17: =E17*F17 -> 20 | H17: =D17*F17 -> 0 | I17: =((G17-H17)/G17) -> 1 | J17: =IF(D17="","Non évalué",(IF(I17=0,"Conforme",IF(I17>=0.9,"Critique",IF(I17>=0.6,"Majeur",IF(I17>=0.3,"Mineur","Négligeable")))))) -> Non évalué
A18: I.2.2 - Favoriser le parangonnage sur le même type d’achat par des acteurs similaires afin d’objectiver le besoin au-delà des suggestions résultant des opérateurs économiques "sourcés". | E18: 5 | F18: 2 | G18: =E18*F18 -> 10 | H18: =D18*F18 -> 0 | I18: =((G18-H18)/G18) -> 1 | J18: =IF(D18="","Non évalué",(IF(I18=0,"Conforme",IF(I18>=0.9,"Critique",IF(I18>=0.6,"Majeur",IF(I18>=0.3,"Mineur","Négligeable")))))) -> Non évalué
A19: I.2.3 - Valoriser l’expression des besoins en termes de performance ou d’exigences fonctionnelles. | E19: 5 | F19: 2 | G19: =E19*F19 -> 10 | H19: =D19*F19 -> 0 | I19: =((G19-H19)/G19) -> 1 | J19: =IF(D19="","Non évalué",(IF(I19=0,"Conforme",IF(I19>=0.9,"Critique",IF(I19>=0.6,"Majeur",IF(I19>=0.3,"Mineur","Négligeable")))))) -> Non évalué
A20: I.2.4 - Vérifier le lien et la proportionnalité entre les besoins exprimés ainsi que : - les conditions relatives aux capacités techniques, professionnelles, économiques et financières éventuellement exigées des opérateurs économiques ; - les critères d’attribution afin d’éviter que la définition du besoin ne soit faite de manière à avantager un fournisseur potentiel. | E20: 5 | F20: 4 | G20: =E20*F20 -> 20 | H20: =D20*F20 -> 0 | I20: =((G20-H20)/G20) -> 1 | J20: =IF(D20="","Non évalué",(IF(I20=0,"Conforme",IF(I20>=0.9,"Critique",IF(I20>=0.6,"Majeur",IF(I20>=0.3,"Mineur","Négligeable")))))) -> Non évalué
A21: I.2.5 - Contrôler la neutralité des spécifications techniques et/ou fonctionnelles (y compris lorsqu’un acteur économique extérieur est en charge de l’assistance à la détermination du besoin). | E21: 5 | F21: 5 | G21: =E21*F21 -> 25 | H21: =D21*F21 -> 0 | I21: =((G21-H21)/G21) -> 1 | J21: =IF(D21="","Non évalué",(IF(I21=0,"Conforme",IF(I21>=0.9,"Critique",IF(I21>=0.6,"Majeur",IF(I21>=0.3,"Mineur","Négligeable")))))) -> Non évalué
A22: I.2.6 - Contrôler systématiquement la cohérence entre le projet et l’évaluation financière qui en découle (en lien notamment avec le sourcing opéré). | E22: 5 | F22: 3 | G22: =E22*F22 -> 15 | H22: =D22*F22 -> 0 | I22: =((G22-H22)/G22) -> 1 | J22: =IF(D22="","Non évalué",(IF(I22=0,"Conforme",IF(I22>=0.9,"Critique",IF(I22>=0.6,"Majeur",IF(I22>=0.3,"Mineur","Négligeable")))))) -> Non évalué
A23: ③ Détermination de la procédure | B23: ③ Détermination de la procédure | C23: ③ Détermination de la procédure | D23: =SUM(D24:D38) -> 0 | E23: =SUM(E24:E38) -> 75 | F23: =SUM(F24:F38) -> 44 | G23: =E23*F23 -> 3300 | H23: =D23*F23 -> 0 | I23: =((G23-H23)/G23) -> 1 | J23: =IF(_xlfn.CONCAT(D24:D38)="","Non évalué",(IF(I23=0,"Conforme",IF(I23>=0.9,"Critique",IF(I23>=0.6,"Majeur",IF(I23>=0.3,"Mineur","Négligeable")))))) -> Non évalué
A24: I.3.1 - Assurer la collégialité de la décision pour assurer la transparence du choix de la procédure, notamment pour le recours aux marchés passés sans publicité ni mise en concurrence préalables, dialogues compétitifs, procédures avec négociation. | C24: • Favoritisme – (i) détournement de procédure (recours abusif aux procédures sans publicité ni mise en concurrence, à la procédure avec négociation, au dialogue compétitif, …) | (ii) fractionnement artificiel ("saucissonnage") des besoins en vue de favoriser un fournisseur (notamment pour les besoins de faible montant) | (iii) en cas d’allotissement, mauvaise qualification des lots ou défaut d’allotissement destiné à permettre à une société déterminée de soumissionner | (iv) recours injustifié à l’urgence | (v) organisation d’une mise en concurrence fictive pour régulariser la passation d’un marché en réalité déjà attribué et réalisé de manière dissimulée. • Prise illégale d'intérêts – participation directe d’un opérateur économique potentiellement candidat (assistant à maîtrise d’ouvrage [AMO], maître d’œuvre [MOE]) à la rédaction du marché. Sont notamment prohibés : - l’élaboration conjointe avec un fournisseur du cahier des charges ; - l’insertion de clauses favorables à certains fournisseurs ; - la mention de marques, labels dans le cahier des charges (sauf si elle est justifiée par l’objet du marché ou, à titre exceptionnel, dans le cas où une description suffisamment précise et intelligible de l’objet du marché n’est pas possible sans elle et à la condition qu’elle soit accompagnée des termes : "ou équivalent") ; - le cahier des charges reprenant l’offre commerciale, un descriptif technique, ou des modalités propres à un opérateur économique ; - l’exigence de niveaux minimums de capacité disproportionnés par rapport à l’importance du marché ou sans lien avec son objet (par exemple le chiffre d’affaires demandé est trop élevé, les certificats de qualification exigés sont surévalués) ; - le choix de critères conduisant à favoriser des entreprises locales ou défavoriser des entreprises étrangères ; - le choix de critères au contenu trop flou ; - le choix de critères de sélection des offres sans lien avec l’objet du marché. | E24: 5 | F24: 2 | G24: =E24*F24 -> 10 | H24: =D24*F24 -> 0 | I24: =((G24-H24)/G24) -> 1 | J24: =IF(D24="","Non évalué",(IF(I24=0,"Conforme",IF(I24>=0.9,"Critique",IF(I24>=0.6,"Majeur",IF(I24>=0.3,"Mineur","Négligeable")))))) -> Non évalué
A25: I.3.2 - Assurer la traçabilité de la justification du choix de la procédure de passation (ex : rapport de présentation lorsque celui-ci est à produire). Vérifier la formalisation interne du choix entre procédure adaptée et procédure formalisée. | E25: 5 | F25: 4 | G25: =E25*F25 -> 20 | H25: =D25*F25 -> 0 | I25: =((G25-H25)/G25) -> 1 | J25: =IF(D25="","Non évalué",(IF(I25=0,"Conforme",IF(I25>=0.9,"Critique",IF(I25>=0.6,"Majeur",IF(I25>=0.3,"Mineur","Négligeable")))))) -> Non évalué
A26: I.3.3 - Établir un processus d’information et de validation du choix de la procédure par les acteurs concernés (autorité hiérarchique, service de la commande publique, instance décisionnelle, …), établir un processus de gestion des achats de faible montant. | E26: 5 | F26: 4 | G26: =E26*F26 -> 20 | H26: =D26*F26 -> 0 | I26: =((G26-H26)/G26) -> 1 | J26: =IF(D26="","Non évalué",(IF(I26=0,"Conforme",IF(I26>=0.9,"Critique",IF(I26>=0.6,"Majeur",IF(I26>=0.3,"Mineur","Négligeable")))))) -> Non évalué
A27: I.3.4 - S'assurer de la correcte computation des seuils de procédure (nomenclature achat, programmation, cartographie des achats, …) | E27: 5 | F27: 3 | G27: =E27*F27 -> 15 | H27: =D27*F27 -> 0 | I27: =((G27-H27)/G27) -> 1 | J27: =IF(D27="","Non évalué",(IF(I27=0,"Conforme",IF(I27>=0.9,"Critique",IF(I27>=0.6,"Majeur",IF(I27>=0.3,"Mineur","Négligeable")))))) -> Non évalué
A28: I.3.5 - Centraliser le suivi des achats afin d'éviter le "saucissonnage" et de respecter les obligations contractuelles existantes. | E28: 5 | F28: 3 | G28: =E28*F28 -> 15 | H28: =D28*F28 -> 0 | I28: =((G28-H28)/G28) -> 1 | J28: =IF(D28="","Non évalué",(IF(I28=0,"Conforme",IF(I28>=0.9,"Critique",IF(I28>=0.6,"Majeur",IF(I28>=0.3,"Mineur","Négligeable")))))) -> Non évalué
A29: I.3.6 - Vérifier la formalisation par le service des niveaux de seuil dans un tableau synthétique, ainsi que l’attention portée à la publicité lorsque son support n’est pas défini de manière réglementaire. | E29: 5 | F29: 2 | G29: =E29*F29 -> 10 | H29: =D29*F29 -> 0 | I29: =((G29-H29)/G29) -> 1 | J29: =IF(D29="","Non évalué",(IF(I29=0,"Conforme",IF(I29>=0.9,"Critique",IF(I29>=0.6,"Majeur",IF(I29>=0.3,"Mineur","Négligeable")))))) -> Non évalué
A30: I.3.7 - Pour les procédures ouvrant droit à la négociation, vérifier que le recours à la négociation est autorisé et motivé, au regard du code de la commande publique (ex : justifier du recours à la procédure avec négociation lorsque, suite à un appel d’offres, seules des offres irrégulières ou inacceptables sont présentées). | E30: 5 | F30: 3 | G30: =E30*F30 -> 15 | H30: =D30*F30 -> 0 | I30: =((G30-H30)/G30) -> 1 | J30: =IF(D30="","Non évalué",(IF(I30=0,"Conforme",IF(I30>=0.9,"Critique",IF(I30>=0.6,"Majeur",IF(I30>=0.3,"Mineur","Négligeable")))))) -> Non évalué
A31: I.3.8 - Contrôler la justification et la pertinence des critères d’attribution associés à une procédure afin d’éviter tout risque de contournement (développement durable, emploi de travailleurs handicapés ou de personnes défavorisées, recours à un éco-label, ...). | E31: 5 | F31: 5 | G31: =E31*F31 -> 25 | H31: =D31*F31 -> 0 | I31: =((G31-H31)/G31) -> 1 | J31: =IF(D31="","Non évalué",(IF(I31=0,"Conforme",IF(I31>=0.9,"Critique",IF(I31>=0.6,"Majeur",IF(I31>=0.3,"Mineur","Négligeable")))))) -> Non évalué
A32: I.3.9 - Définir des jalons de procédure tenant compte des délais de traitement et de publicité | E32: 5 | F32: 2 | G32: =E32*F32 -> 10 | H32: =D32*F32 -> 0 | I32: =((G32-H32)/G32) -> 1 | J32: =IF(D32="","Non évalué",(IF(I32=0,"Conforme",IF(I32>=0.9,"Critique",IF(I32>=0.6,"Majeur",IF(I32>=0.3,"Mineur","Négligeable")))))) -> Non évalué
A33: I.3.10 - Vérifier les opportunités de standardisation de besoins proches, avec une attention particulière aux achats effectués hors programmation et aux procédures d’arbitrages d’achats. | E33: 5 | F33: 2 | G33: =E33*F33 -> 10 | H33: =D33*F33 -> 0 | I33: =((G33-H33)/G33) -> 1 | J33: =IF(D33="","Non évalué",(IF(I33=0,"Conforme",IF(I33>=0.9,"Critique",IF(I33>=0.6,"Majeur",IF(I33>=0.3,"Mineur","Négligeable")))))) -> Non évalué
A34: I.3.11 - Évaluer les écarts entre la programmation budgétaire et la programmation des achats, repérer les opérations pour lesquelles l’écart est significatif, étudier les justifications afférentes. | E34: 5 | F34: 1 | G34: =E34*F34 -> 5 | H34: =D34*F34 -> 0 | I34: =((G34-H34)/G34) -> 1 | J34: =IF(D34="","Non évalué",(IF(I34=0,"Conforme",IF(I34>=0.9,"Critique",IF(I34>=0.6,"Majeur",IF(I34>=0.3,"Mineur","Négligeable")))))) -> Non évalué
A35: I.3.12 - Vérifier la justification du recours à des procédures dérogatoires (ex : recours systématique à la procédure d’urgence faute d’anticipation de certains achats). | E35: 5 | F35: 3 | G35: =E35*F35 -> 15 | H35: =D35*F35 -> 0 | I35: =((G35-H35)/G35) -> 1 | J35: =IF(D35="","Non évalué",(IF(I35=0,"Conforme",IF(I35>=0.9,"Critique",IF(I35>=0.6,"Majeur",IF(I35>=0.3,"Mineur","Négligeable")))))) -> Non évalué
A36: I.3.13 - Marchés passés sans publicité ni mise en concurrence préalables (urgence impérieuse, existence de droits d’exclusivité, …). | E36: 5 | F36: 4 | G36: =E36*F36 -> 20 | H36: =D36*F36 -> 0 | I36: =((G36-H36)/G36) -> 1 | J36: =IF(D36="","Non évalué",(IF(I36=0,"Conforme",IF(I36>=0.9,"Critique",IF(I36>=0.6,"Majeur",IF(I36>=0.3,"Mineur","Négligeable")))))) -> Non évalué
... A39: I.3.16 - Mettre en place une procédure d'évaluation des potentiels risques de conflits d'intérêts au moment de l'analyse des candidatures, analyse des offres, attribution du marché, signature du marché, et suivi de son exécution (cf. guide ministériel sur les conflits d'intérêt). | E39: 5 | F39: 4 | G39: =E39*F39 -> 20 | H39: =D39*F39 -> 0 | I39: =((G39-H39)/G39) -> 1 | J39: =IF(D39="","Non évalué",(IF(I39=0,"Conforme",IF(I39>=0.9,"Critique",IF(I39>=0.6,"Majeur",IF(I39>=0.3,"Mineur","Négligeable")))))) -> Non évalué
A40: ④ Contenu des pièces administratives, techniques et financières | B40: ④ Contenu des pièces administratives, techniques et financières | C40: ④ Contenu des pièces administratives, techniques et financières | D40: =SUM(D41:D50) -> 0 | E40: =SUM(E41:E50) -> 50 | F40: =SUM(F41:F50) -> 29 | G40: =E40*F40 -> 1450 | H40: =D40*F40 -> 0 | I40: =((G40-H40)/G40) -> 1 | J40: =IF(_xlfn.CONCAT(D41:D50)="","Non évalué",(IF(I40=0,"Conforme",IF(I40>=0.9,"Critique",IF(I40>=0.6,"Majeur",IF(I40>=0.3,"Mineur","Négligeable")))))) -> Non évalué
A41: I.4.1 - Assurer la collégialité dans la rédaction et la relecture des pièces du dossier de consultation. | C41: • Favoritisme – (i) recours abusif aux critères sociaux et environnementaux, afin notamment d’exclure les opérateurs éloignés géographiquement | (ii) recours injustifié à des marques, labels, spécifications techniques, ou conditions d’exécution spécieuses dans le but d’avantager un opérateur économique | (iii) exigences disproportionnées en matière de capacités techniques, professionnelles et financières | (iv) détermination d’une pondération des critères favorisant indûment un candidat. | E41: 5 | F41: 4 | G41: =E41*F41 -> 20 | H41: =D41*F41 -> 0 | I41: =((G41-H41)/G41) -> 1 | J41: =IF(D41="","Non évalué",(IF(I41=0,"Conforme",IF(I41>=0.9,"Critique",IF(I41>=0.6,"Majeur",IF(I41>=0.3,"Mineur","Négligeable")))))) -> Non évalué
A42: I.4.2 - Interdiction d’associer un opérateur économique (hors AMO, MOE participant à l’achat) à la relecture ou la rédaction du cahier des charges. | E42: 5 | F42: 5 | G42: =E42*F42 -> 25 | H42: =D42*F42 -> 0 | I42: =((G42-H42)/G42) -> 1 | J42: =IF(D42="","Non évalué",(IF(I42=0,"Conforme",IF(I42>=0.9,"Critique",IF(I42>=0.6,"Majeur",IF(I42>=0.3,"Mineur","Négligeable")))))) -> Non évalué
...

Sheet Résultats
B2: Niveau de risque des différentes étapes du cycle achat
B3: Non Évalué | C3: Conforme | D3: Négligeable | E3: Mineur | F3: Majeur | G3: Critique
B4: =CONCATENATE(IF('Auto diagnostic Cycle Achat'!J3="Non évalué",A11,""),IF('Auto diagnostic Cycle Achat'!J16="Non évalué",A12,""),IF('Auto diagnostic Cycle Achat'!J23="Non évalué",A13,""),IF('Auto diagnostic Cycle Achat'!J40="Non évalué",A14,""),IF('Auto diagnostic Cycle Achat'!J52="Non évalué",A15,""),IF('Auto diagnostic Cycle Achat'!J59="Non évalué",A16,""),IF('Auto diagnostic Cycle Achat'!J66="Non évalué",A17,""),IF('Auto diagnostic Cycle Achat'!J74="Non évalué",A18,""),IF('Auto diagnostic Cycle Achat'!J86="Non évalué",A19,""),IF('Auto diagnostic Cycle Achat'!J94="Non évalué",A20,""),IF('Auto diagnostic Cycle Achat'!J99="Non évalué",A21,""),IF('Auto diagnostic Cycle Achat'!J103="Non évalué",A22,""),IF('Auto diagnostic Cycle Achat'!J110="Non évalué",A23,""),IF('Auto diagnostic Cycle Achat'!J118="Non évalué",A24,""),IF('Auto diagnostic Cycle Achat'!J120="Non évalué",A25,"")) -> ①②③④⑤⑥⑦⑧⑨⑩⑪⑫⑬⑭⑮ | C4: =CONCATENATE(IF('Auto diagnostic Cycle Achat'!J3="Conforme",A11,""),IF('Auto diagnostic Cycle Achat'!J16="Conforme",A12,""),IF('Auto diagnostic Cycle Achat'!J23="Conforme",A13,""),IF('Auto diagnostic Cycle Achat'!J40="Conforme",A14,""),IF('Auto diagnostic Cycle Achat'!J52="Conforme",A15,""),IF('Auto diagnostic Cycle Achat'!J59="Conforme",A16,""),IF('Auto diagnostic Cycle Achat'!J66="Conforme",A17,""),IF('Auto diagnostic Cycle Achat'!J74="Conforme",A18,""),IF('Auto diagnostic Cycle Achat'!J86="Conforme",A19,""),IF('Auto diagnostic Cycle Achat'!J94="Conforme",A20,""),IF('Auto diagnostic Cycle Achat'!J99="Conforme",A21,""),IF('Auto diagnostic Cycle Achat'!J103="Conforme",A22,""),IF('Auto diagnostic Cycle Achat'!J110="Conforme",A23,""),IF('Auto diagnostic Cycle Achat'!J118="Conforme",A24,""),IF('Auto diagnostic Cycle Achat'!J120="Conforme",A25,"")) | D4: =CONCATENATE(IF('Auto diagnostic Cycle Achat'!J3="Négligeable",A11,""),IF('Auto diagnostic Cycle Achat'!J16="Négligeable",A12,""),IF('Auto diagnostic Cycle Achat'!J23="Négligeable",A13,""),IF('Auto diagnostic Cycle Achat'!J40="Négligeable",A14,""),IF('Auto diagnostic Cycle Achat'!J52="Négligeable",A15,""),IF('Auto diagnostic Cycle Achat'!J59="Négligeable",A16,""),IF('Auto diagnostic Cycle Achat'!J66="Négligeable",A17,""),IF('Auto diagnostic Cycle Achat'!J74="Négligeable",A18,""),IF('Auto diagnostic Cycle Achat'!J86="Négligeable",A19,""),IF('Auto diagnostic Cycle Achat'!J94="Négligeable",A20,""),IF('Auto diagnostic Cycle Achat'!J99="Négligeable",A21,""),IF('Auto diagnostic Cycle Achat'!J103="Négligeable",A22,""),IF('Auto diagnostic Cycle Achat'!J110="Négligeable",A23,""),IF('Auto diagnostic Cycle Achat'!J118="Négligeable",A24,""),IF('Auto diagnostic Cycle Achat'!J120="Négligeable",A25,"")) | E4: =CONCATENATE(IF('Auto diagnostic Cycle Achat'!J3="Mineur",A11,""),IF('Auto diagnostic Cycle Achat'!J16="Mineur",A12,""),IF('Auto diagnostic Cycle Achat'!J23="Mineur",A13,""),IF('Auto diagnostic Cycle Achat'!J40="Mineur",A14,""),IF('Auto diagnostic Cycle Achat'!J52="Mineur",A15,""),IF('Auto diagnostic Cycle Achat'!J59="Mineur",A16,""),IF('Auto diagnostic Cycle Achat'!J66="Mineur",A17,""),IF('Auto diagnostic Cycle Achat'!J74="Mineur",A18,""),IF('Auto diagnostic Cycle Achat'!J86="Mineur",A19,""),IF('Auto diagnostic Cycle Achat'!J94="Mineur",A20,""),IF('Auto diagnostic Cycle Achat'!J99="Mineur",A21,""),IF('Auto diagnostic Cycle Achat'!J103="Mineur",A22,""),IF('Auto diagnostic Cycle Achat'!J110="Mineur",A23,""),IF('Auto diagnostic Cycle Achat'!J118="Mineur",A24,""),IF('Auto diagnostic Cycle Achat'!J120="Mineur",A25,"")) | F4: =CONCATENATE(IF('Auto diagnostic Cycle Achat'!J3="Majeur",A11,""),IF('Auto diagnostic Cycle Achat'!J16="Majeur",A12,""),IF('Auto diagnostic Cycle Achat'!J23="Majeur",A13,""),IF('Auto diagnostic Cycle Achat'!J40="Majeur",A14,""),IF('Auto diagnostic Cycle Achat'!J52="Majeur",A15,""),IF('Auto diagnostic Cycle Achat'!J59="Majeur",A16,""),IF('Auto diagnostic Cycle Achat'!J66="Majeur",A17,""),IF('Auto diagnostic Cycle Achat'!J74="Majeur",A18,""),IF('Auto diagnostic Cycle Achat'!J86="Majeur",A19,""),IF('Auto diagnostic Cycle Achat'!J94="Majeur",A20,""),IF('Auto diagnostic Cycle Achat'!J99="Majeur",A21,""),IF('Auto diagnostic Cycle Achat'!J103="Majeur",A22,""),IF('Auto diagnostic Cycle Achat'!J110="Majeur",A23,""),IF('Auto diagnostic Cycle Achat'!J118="Majeur",A24,""),IF('Auto diagnostic Cycle Achat'!J120="Majeur",A25,"")) | G4: =CONCATENATE(IF('Auto diagnostic Cycle Achat'!J3="Critique",A11,""),IF('Auto diagnostic Cycle Achat'!J16="Critique",A12,""),IF('Auto diagnostic Cycle Achat'!J23="Critique",A13,""),IF('Auto diagnostic Cycle Achat'!J40="Critique",A14,""),IF('Auto diagnostic Cycle Achat'!J52="Critique",A15,""),IF('Auto diagnostic Cycle Achat'!J59="Critique",A16,""),IF('Auto diagnostic Cycle Achat'!J66="Critique",A17,""),IF('Auto diagnostic Cycle Achat'!J74="Critique",A18,""),IF('Auto diagnostic Cycle Achat'!J86="Critique",A19,""),IF('Auto diagnostic Cycle Achat'!J94="Critique",A20,""),IF('Auto diagnostic Cycle Achat'!J99="Critique",A21,""),IF('Auto diagnostic Cycle Achat'!J103="Critique",A22,""),IF('Auto diagnostic Cycle Achat'!J110="Critique",A23,""),IF('Auto diagnostic Cycle Achat'!J118="Critique",A24,""),IF('Auto diagnostic Cycle Achat'!J120="Critique",A25,""))
A10: Légende | B10: Etapes du cycle achat
A11: ① | B11: Sourcing
A12: ② | B12: Détermination du besoin
A13: ③ | B13: Détermination de la procédure
A14: ④ | B14: Contenu des pièces administratives, techniques et financières
A15: ⑤ | B15: Mesures de publicité et de remise des plis
A16: ⑥ | B16: Communication et échanges durant la phase de passation
A17: ⑦ | B17: Analyse des candidatures
A18: ⑧ | B18: Analyse des offres
A19: ⑨ | B19: Attribution du marché public ou abandon de la procédure
A20: ⑩ | B20: Mise au point et signature du marché
A21: ⑪ | B21: Modification du marché public en cours d'exécution
... A25: ⑮ | B25: Bilan d’exécution (physique et financier)
A28: Taux de complétude
A29: =(110-(COUNTIF('Auto diagnostic Cycle Achat'!J4:J15,"Non évalué")+COUNTIF('Auto diagnostic Cycle Achat'!J17:J22,"Non évalué")+COUNTIF('Auto diagnostic Cycle Achat'!J24:J38,"Non évalué")+COUNTIF('Auto diagnostic Cycle Achat'!J41:J51,"Non évalué")+COUNTIF('Auto diagnostic Cycle Achat'!J53:J58,"Non évalué")+COUNTIF('Auto diagnostic Cycle Achat'!J60:J65,"Non évalué")+COUNTIF('Auto diagnostic Cycle Achat'!J67:J73,"Non évalué")+COUNTIF('Auto diagnostic Cycle Achat'!J75:J85,"Non évalué")+COUNTIF('Auto diagnostic Cycle Achat'!J87:J93,"Non évalué")+COUNTIF('Auto diagnostic Cycle Achat'!J95:J98,"Non évalué")+COUNTIF('Auto diagnostic Cycle Achat'!J100:J102,"Non évalué")+COUNTIF('Auto diagnostic Cycle Achat'!J104:J109,"Non évalué")+COUNTIF('Auto diagnostic Cycle Achat'!J111:J117,"Non évalué")+COUNTIF('Auto diagnostic Cycle Achat'!J119:J119,"Non évalué")+COUNTIF('Auto diagnostic Cycle Achat'!J121:J127,"Non évalué")))/110 -> 0.0090909091

Sheet Méthodologie
B2: Méthodologie de réalisation de l'auto- diagnostic anticorruption du cycle "Achat"
B3: L'autodiagnostic vise à établir l'écart entre les pratiques ministérielles d'une direction, d'un service ou d'un bureau et celles du référentiel ministériel anticorruption pour le cycle "Achat", décliné du guide de l'achat public de l'agence Française anticorruption (AFA) (https://www.economie.gouv.fr/files/files/directions_services/dae/doc/Guide_maitrise_risque_corruption.pdf) Cet autodiagnostic vise le ciblage et la priorisation d'éventuelles mesures de remédiation à mettre en place conformément aux bonnes pratiques définies par l'AFA pour couvrir les risques d'atteinte à la probité susceptibles d'être rencontrés par les acteurs intervenant dans la procédure et la chaîne de traitement des achats publics à tous les niveaux. Il appartient à chaque direction, service ou bureau, de désigner, dans la colonne adéquate, le responsable de la mise en oeuvre de l'élément du référentiel. Il ne doit pas s'agir d'une personne identifiée nommément mais d'un poste ou d'un type de poste, qui peut comporter des responsabilités managériales ou pas. Ce responsable doit alors déterminer, en toute objectivité, le niveau d'intégration de l'élément du référentiel dans les processus métiers sur une échelle de 1 à 5 dont le niveau est déterminé suivant les critères définis dans la grille ci-dessous. Chaque élément du référentiel génère une note, pondérée selon un coefficient préétabli qui reflète l'importance relative du critère par rapport aux autres. Cette note est ensuite comparée à la note maximale théorique, ce qui détermine la taille de l'écart, qui est classé en 5 catégories : Conforme, Négligeable, Mineur, Majeur et Critique. Il est également possible de ne pas évaluer certains éléments en laissant la case dédiée à l'autoévaluation vide. Il est toutefois fortement recommandé de ne pas laisser des éléments non évalués au milieu d'éléments évalués dans un même bloc de processus, sinon les résultats seraient difficiles voire impossible à analyser. Enfin, les résultats sont affichés dans l'onglet dédié, par bloc de processus, sous une forme simplifiée qui permet une analyse rapide du niveau de conformité aux éléments du référentiel. Le taux de complétude de l'autodiagnostic est également renseigné. De manière pragmatique, l'entité chargée de remplir l'autodiagnostic doit renseigner les colonnes B (personne ou bureau/service chargée de la tâche décrite en colonne A) et D (cotation du niveau d'intégration de la bonne pratique, à sélectionner dans une liste de 1 à 5).
B5: Grille de cotation des écarts vis-à-vis des recommendations
B6: L'écart par rapport à une implémentation maximale des recommendation est divisé en 5 catégories suivant la grille ci-dessous :
B7: Conforme | C7: L'écart à la bonne pratique est nul.
B8: Négligeable | C8: L'écart à la bonne pratique est inférieur ou égal à 30 %.
B9: Mineur | C9: L'écart à la bonne pratique est supérieur à 30 % et inférieur à 60 %.
B10: Majeur | C10: L'écart à la bonne pratique est supérieur ou égal à 60 % et inférieur à 90 %.
B11: Critique | C11: L'écart à la bonne pratique est supérieur ou égal à 90 %.
B13: Grille de cotation de la pondération
B14: La grille de pondération des critères permet de différentier les différentes bonnes pratiques en fonction de leur importance dans l'évaluation des risques d'atteinte à la probité. Cela permet d'agréger l'ensemble des critères au sein d'une même étape et d'apporter une vision réaliste des exigences à avoir sur cette étape. Cette grille n'a pas vocation à être aménagée.
B15: 5 | C15: La bonne pratique est une démarche indispensable pour limiter les risques d'atteinte à la probité.
B16: 4 | C16: La bonne pratique est une démarche nécessaire à la limitation des risques d'atteinte à la probité
B17: 3 | C17: La bonne pratique est une démarche importante dans le dispositif de limitation des risques d'atteinte à la probité
B18: 2 | C18: La bonne pratique est secondaire dans le dispositif de limitation du risque d'atteinte à la probité
B19: 1 | C19: La bonne pratique n'est pas indispensable mais elle constitue une réassurance que les risques sont bien gérés.
